BEGIN:VCALENDAR
VERSION:2.0
PRODID:-//Groß Radden e.V. - ECPv6.8.3//NONSGML v1.0//EN
CALSCALE:GREGORIAN
METHOD:PUBLISH
X-ORIGINAL-URL:https://www.gross-radden.de
X-WR-CALDESC:Veranstaltungen für Groß Radden e.V.
REFRESH-INTERVAL;VALUE=DURATION:PT1H
X-Robots-Tag:noindex
X-PUBLISHED-TTL:PT1H
BEGIN:VTIMEZONE
TZID:Europe/Berlin
BEGIN:DAYLIGHT
TZOFFSETFROM:+0100
TZOFFSETTO:+0200
TZNAME:CEST
DTSTART:20250330T010000
END:DAYLIGHT
BEGIN:STANDARD
TZOFFSETFROM:+0200
TZOFFSETTO:+0100
TZNAME:CET
DTSTART:20251026T010000
END:STANDARD
END:VTIMEZONE
BEGIN:VEVENT
DTSTART;TZID=Europe/Berlin:20250117T190000
DTEND;TZID=Europe/Berlin:20250117T220000
DTSTAMP:20260419T202422
CREATED:20250117T162957Z
LAST-MODIFIED:20250117T162957Z
UID:4707-1737140400-1737151200@www.gross-radden.de
SUMMARY:Stammtisch
DESCRIPTION:
URL:https://www.gross-radden.de/event/stammtisch-2/
LOCATION:Vereinshaus\, Altenoer Weg 3\, Lübbenau\, 03222
END:VEVENT
BEGIN:VEVENT
DTSTART;TZID=Europe/Berlin:20250118T110000
DTEND;TZID=Europe/Berlin:20250118T190000
DTSTAMP:20260419T202422
CREATED:20240126T164659Z
LAST-MODIFIED:20250113T170126Z
UID:2694-1737198000-1737226800@www.gross-radden.de
SUMMARY:Zampern
DESCRIPTION:Wir starten um 11 Uhr am Vereinshaus. Das erste Ständchen gibt es bei Frau Jente – dann geht es weiter in Richtung Tante Grete e. V. und Familie Pursche. Wir beenden die Zamperrunde bei Familie Schwittek.
URL:https://www.gross-radden.de/event/zampern-2/
LOCATION:Gemeindeort\, alle Straßen und Wege im Ort
END:VEVENT
BEGIN:VEVENT
DTSTART;TZID=Europe/Berlin:20250122T173000
DTEND;TZID=Europe/Berlin:20250122T183000
DTSTAMP:20260419T202422
CREATED:20240503T175927Z
LAST-MODIFIED:20250117T145715Z
UID:4185-1737567000-1737570600@www.gross-radden.de
SUMMARY:Sportgruppe "Rückentraining"
DESCRIPTION:
URL:https://www.gross-radden.de/event/sportgruppe-rueckentraining/
LOCATION:Vereinshaus\, Altenoer Weg 3\, Lübbenau\, 03222
END:VEVENT
END:VCALENDAR