BEGIN:VCALENDAR
VERSION:2.0
PRODID:-//Groß Radden e.V. - ECPv6.8.3//NONSGML v1.0//EN
CALSCALE:GREGORIAN
METHOD:PUBLISH
X-WR-CALNAME:Groß Radden e.V.
X-ORIGINAL-URL:https://www.gross-radden.de
X-WR-CALDESC:Veranstaltungen für Groß Radden e.V.
REFRESH-INTERVAL;VALUE=DURATION:PT1H
X-Robots-Tag:noindex
X-PUBLISHED-TTL:PT1H
BEGIN:VTIMEZONE
TZID:Europe/Berlin
BEGIN:DAYLIGHT
TZOFFSETFROM:+0100
TZOFFSETTO:+0200
TZNAME:CEST
DTSTART:20240331T010000
END:DAYLIGHT
BEGIN:STANDARD
TZOFFSETFROM:+0200
TZOFFSETTO:+0100
TZNAME:CET
DTSTART:20241027T010000
END:STANDARD
END:VTIMEZONE
BEGIN:VEVENT
DTSTART;TZID=Europe/Berlin:20241202T150000
DTEND;TZID=Europe/Berlin:20241202T190000
DTSTAMP:20260419T214006
CREATED:20240723T183420Z
LAST-MODIFIED:20241119T093102Z
UID:4387-1733151600-1733166000@www.gross-radden.de
SUMMARY:Rentner- und Seniorenweihnachtsfeier
DESCRIPTION:Klein Radden und Groß Radden feiern gemeinsam.
URL:https://www.gross-radden.de/event/seniorenweihnachtsfeier/
LOCATION:Zur Alten Sensenschmiede\, Lindengasse 1\, Lübbenau/Spreewald\, 03222\, Deutschland
END:VEVENT
BEGIN:VEVENT
DTSTART;TZID=Europe/Berlin:20241203T170000
DTEND;TZID=Europe/Berlin:20241203T180000
DTSTAMP:20260419T214006
CREATED:20241119T103026Z
LAST-MODIFIED:20241119T103026Z
UID:4563-1733245200-1733248800@www.gross-radden.de
SUMMARY:Rückengymnastik
DESCRIPTION:
URL:https://www.gross-radden.de/event/rueckengymnastik/
LOCATION:Vereinshaus\, Altenoer Weg 3\, Lübbenau\, 03222
END:VEVENT
BEGIN:VEVENT
DTSTART;TZID=Europe/Berlin:20241207T180000
DTEND;TZID=Europe/Berlin:20241207T210000
DTSTAMP:20260419T214006
CREATED:20240126T163057Z
LAST-MODIFIED:20241119T103718Z
UID:2678-1733594400-1733605200@www.gross-radden.de
SUMMARY:2. Adventstürchen
DESCRIPTION:Das 2. Adventstürchen wird gestaltet durch Michael Bresching\, Steffan Schwittek und Familie Fink und findet an der Groß Raddener Hauptstraße 30 statt.\nBitte bringt einen Glühweinbecher mit. Vielen Dank!
URL:https://www.gross-radden.de/event/adventstuerchen-2/
END:VEVENT
BEGIN:VEVENT
DTSTART;TZID=Europe/Berlin:20241214T120000
DTEND;TZID=Europe/Berlin:20241214T170000
DTSTAMP:20260419T214006
CREATED:20241119T094253Z
LAST-MODIFIED:20241119T094559Z
UID:4548-1734177600-1734195600@www.gross-radden.de
SUMMARY:Rathauskaffee zum Weihnachtsmarkt der IGEA in Lübbenau
DESCRIPTION:Wie im Jahr 2023 gestalten wir auch in diesem Jahr das Rathauskaffee.\nWir freuen uns auf fleißige Helfer: Kuchenbäcker\, Standbetreuer\, Dekorationstalente und Festzeltgarniturenaufsteller.
URL:https://www.gross-radden.de/event/rathauskaffee-zum-weihnachtsmarkt-der-igea-in-luebbenau/
LOCATION:Rathaus Lübbenau\, Kirchplatz 1\, Lübbenau\, 03222
END:VEVENT
BEGIN:VEVENT
DTSTART;TZID=Europe/Berlin:20241214T180000
DTEND;TZID=Europe/Berlin:20241214T210000
DTSTAMP:20260419T214006
CREATED:20240124T112700Z
LAST-MODIFIED:20241119T101840Z
UID:2517-1734199200-1734210000@www.gross-radden.de
SUMMARY:3. Adventstürchen
DESCRIPTION:Das 3. Adventstürchen wird gestaltet durch Jenny und Nico Wagner\, Nadine und Mathias Lauks und findet am Lübbener Weg 9 statt.\nBitte bringt einen Glühweinbecher mit. Vielen Dank!
URL:https://www.gross-radden.de/event/adventstuerchen/
END:VEVENT
BEGIN:VEVENT
DTSTART;TZID=Europe/Berlin:20241218T173000
DTEND;TZID=Europe/Berlin:20241218T183000
DTSTAMP:20260419T214006
CREATED:20241119T103113Z
LAST-MODIFIED:20241119T103113Z
UID:4565-1734543000-1734546600@www.gross-radden.de
SUMMARY:Rückengymnastik
DESCRIPTION:
URL:https://www.gross-radden.de/event/rueckengymnastik-2/
LOCATION:Vereinshaus\, Altenoer Weg 3\, Lübbenau\, 03222
END:VEVENT
BEGIN:VEVENT
DTSTART;TZID=Europe/Berlin:20241220T190000
DTEND;TZID=Europe/Berlin:20241220T220000
DTSTAMP:20260419T214006
CREATED:20240124T111738Z
LAST-MODIFIED:20240507T181221Z
UID:2515-1734721200-1734732000@www.gross-radden.de
SUMMARY:Stammtisch
DESCRIPTION:
URL:https://www.gross-radden.de/event/stammtisch-12/
LOCATION:Vereinshaus\, Altenoer Weg 3\, Lübbenau\, 03222
END:VEVENT
BEGIN:VEVENT
DTSTART;TZID=Europe/Berlin:20241221T180000
DTEND;TZID=Europe/Berlin:20241221T210000
DTSTAMP:20260419T214006
CREATED:20240126T172312Z
LAST-MODIFIED:20241119T102352Z
UID:2705-1734804000-1734814800@www.gross-radden.de
SUMMARY:4. Adventstürchen
DESCRIPTION:Das 4. Adventstürchen wird gestaltet durch die Familien Gutsche\, Ehrlich\, Schwittek und Pursche und findet am Groß Raddener Dreieck statt.\nBitte bringt einen Glühweinbecher mit. Vielen Dank!
URL:https://www.gross-radden.de/event/adventstuerchen-4/
END:VEVENT
BEGIN:VEVENT
DTSTART;TZID=Europe/Berlin:20241224T220000
DTEND;TZID=Europe/Berlin:20241224T233000
DTSTAMP:20260419T214006
CREATED:20240126T172128Z
LAST-MODIFIED:20240126T192201Z
UID:2703-1735077600-1735083000@www.gross-radden.de
SUMMARY:Traditionelles Treffen am Bushäuschen
DESCRIPTION:
URL:https://www.gross-radden.de/event/adventstuerchen-3/
END:VEVENT
END:VCALENDAR