BEGIN:VCALENDAR
VERSION:2.0
PRODID:-//Groß Radden e.V. - ECPv6.8.3//NONSGML v1.0//EN
CALSCALE:GREGORIAN
METHOD:PUBLISH
X-ORIGINAL-URL:https://www.gross-radden.de
X-WR-CALDESC:Veranstaltungen für Groß Radden e.V.
REFRESH-INTERVAL;VALUE=DURATION:PT1H
X-Robots-Tag:noindex
X-PUBLISHED-TTL:PT1H
BEGIN:VTIMEZONE
TZID:Europe/Berlin
BEGIN:DAYLIGHT
TZOFFSETFROM:+0100
TZOFFSETTO:+0200
TZNAME:CEST
DTSTART:20240331T010000
END:DAYLIGHT
BEGIN:STANDARD
TZOFFSETFROM:+0200
TZOFFSETTO:+0100
TZNAME:CET
DTSTART:20241027T010000
END:STANDARD
END:VTIMEZONE
BEGIN:VEVENT
DTSTART;TZID=Europe/Berlin:20240911T163000
DTEND;TZID=Europe/Berlin:20240911T183000
DTSTAMP:20260420T020511
CREATED:20240723T183202Z
LAST-MODIFIED:20240724T074027Z
UID:4385-1726072200-1726079400@www.gross-radden.de
SUMMARY:Informationsveranstaltung zum Thema Vollmachten und Verfügungen in der Pflege
DESCRIPTION:Referentin ist eine Sozialarbeiterin der AWO Lübbenau. Sie informiert zu den Themen Vorsorgevollmacht\, Betreuungsverfügung und Patientenverfügung. \nBitte gebt bis zum 01.09.2024 Bescheid\, ob ihr dabei sein möchtet.
URL:https://www.gross-radden.de/event/informationsveranstaltung-zu-den-themen-vorsorgevollmachten-betreuungsverfuegungen-patientenverfuegungen/
LOCATION:Vereinshaus\, Altenoer Weg 3\, Lübbenau\, 03222
END:VEVENT
BEGIN:VEVENT
DTSTART;TZID=Europe/Berlin:20240920T150000
DTEND;TZID=Europe/Berlin:20240920T190000
DTSTAMP:20260420T020511
CREATED:20240822T122459Z
LAST-MODIFIED:20240822T122459Z
UID:4426-1726844400-1726858800@www.gross-radden.de
SUMMARY:Seniorenkaffee
DESCRIPTION:Bitte bringt alte Dorf- und Veranstaltungsfotos mit.
URL:https://www.gross-radden.de/event/seniorenkaffee-2/
LOCATION:Vereinshaus\, Altenoer Weg 3\, Lübbenau\, 03222
END:VEVENT
BEGIN:VEVENT
DTSTART;TZID=Europe/Berlin:20240920T190000
DTEND;TZID=Europe/Berlin:20240920T220000
DTSTAMP:20260420T020511
CREATED:20240124T111205Z
LAST-MODIFIED:20240507T181121Z
UID:2508-1726858800-1726869600@www.gross-radden.de
SUMMARY:Stammtisch
DESCRIPTION:
URL:https://www.gross-radden.de/event/stammtisch-9/
LOCATION:Vereinshaus\, Altenoer Weg 3\, Lübbenau\, 03222
END:VEVENT
BEGIN:VEVENT
DTSTART;VALUE=DATE:20240928
DTEND;VALUE=DATE:20240929
DTSTAMP:20260420T020511
CREATED:20240822T122026Z
LAST-MODIFIED:20240922T110955Z
UID:4424-1727481600-1727567999@www.gross-radden.de
SUMMARY:Ausflug der Feuerwehrmitglieder
DESCRIPTION:Wir brechen auf zu einer 7-Seen-Schifffahrt. Nähere Informationen findet ihr auf dem Flyer der Feuerwehr.
URL:https://www.gross-radden.de/event/ausflug-der-feuerwehrmitglieder/
END:VEVENT
END:VCALENDAR