BEGIN:VCALENDAR
VERSION:2.0
PRODID:-//Groß Radden e.V. - ECPv6.8.3//NONSGML v1.0//EN
CALSCALE:GREGORIAN
METHOD:PUBLISH
X-WR-CALNAME:Groß Radden e.V.
X-ORIGINAL-URL:https://www.gross-radden.de
X-WR-CALDESC:Veranstaltungen für Groß Radden e.V.
REFRESH-INTERVAL;VALUE=DURATION:PT1H
X-Robots-Tag:noindex
X-PUBLISHED-TTL:PT1H
BEGIN:VTIMEZONE
TZID:Europe/Berlin
BEGIN:DAYLIGHT
TZOFFSETFROM:+0100
TZOFFSETTO:+0200
TZNAME:CEST
DTSTART:20240331T010000
END:DAYLIGHT
BEGIN:STANDARD
TZOFFSETFROM:+0200
TZOFFSETTO:+0100
TZNAME:CET
DTSTART:20241027T010000
END:STANDARD
END:VTIMEZONE
BEGIN:VEVENT
DTSTART;TZID=Europe/Berlin:20240706T080000
DTEND;TZID=Europe/Berlin:20240707T170000
DTSTAMP:20260420T052841
CREATED:20240126T164203Z
LAST-MODIFIED:20240126T164203Z
UID:2688-1720252800-1720371600@www.gross-radden.de
SUMMARY:Spreewaldfest Lübbenau/Kahnkorso
DESCRIPTION:
URL:https://www.gross-radden.de/event/spreewaldfest-luebbenau-kahnkorso/
LOCATION:Lübbenau/Spreewald\, Am Hafen und Umgebung
END:VEVENT
BEGIN:VEVENT
DTSTART;TZID=Europe/Berlin:20240710T173000
DTEND;TZID=Europe/Berlin:20240710T183000
DTSTAMP:20260420T052841
CREATED:20240614T130815Z
LAST-MODIFIED:20240614T131243Z
UID:4251-1720632600-1720636200@www.gross-radden.de
SUMMARY:Sportgruppe "Rückentraining"
DESCRIPTION:
URL:https://www.gross-radden.de/event/sportgruppe-rueckentraining-5/
LOCATION:Vereinshaus\, Altenoer Weg 3\, Lübbenau\, 03222
END:VEVENT
BEGIN:VEVENT
DTSTART;TZID=Europe/Berlin:20240713T150000
DTEND;TZID=Europe/Berlin:20240713T233000
DTSTAMP:20260420T052841
CREATED:20240126T164444Z
LAST-MODIFIED:20240126T164444Z
UID:2690-1720882800-1720913400@www.gross-radden.de
SUMMARY:Groß Raddener Sommerfest
DESCRIPTION:
URL:https://www.gross-radden.de/event/gross-raddener-sommerfest/
LOCATION:Vereinshaus\, Altenoer Weg 3\, Lübbenau\, 03222
END:VEVENT
BEGIN:VEVENT
DTSTART;TZID=Europe/Berlin:20240719T190000
DTEND;TZID=Europe/Berlin:20240719T220000
DTSTAMP:20260420T052841
CREATED:20240124T111031Z
LAST-MODIFIED:20240507T181031Z
UID:2504-1721415600-1721426400@www.gross-radden.de
SUMMARY:Stammtisch
DESCRIPTION:
URL:https://www.gross-radden.de/event/stammtisch-7/
LOCATION:Vereinshaus\, Altenoer Weg 3\, Lübbenau\, 03222
END:VEVENT
BEGIN:VEVENT
DTSTART;TZID=Europe/Berlin:20240724T173000
DTEND;TZID=Europe/Berlin:20240724T183000
DTSTAMP:20260420T052841
CREATED:20240614T130914Z
LAST-MODIFIED:20240614T130914Z
UID:4253-1721842200-1721845800@www.gross-radden.de
SUMMARY:Sportgruppe "Rückentraining"
DESCRIPTION:
URL:https://www.gross-radden.de/event/sportgruppe-rueckentraining-6/
LOCATION:Vereinshaus\, Altenoer Weg 3\, Lübbenau\, 03222
END:VEVENT
BEGIN:VEVENT
DTSTART;TZID=Europe/Berlin:20240727T180000
DTEND;TZID=Europe/Berlin:20240727T233000
DTSTAMP:20260420T052841
CREATED:20240425T140905Z
LAST-MODIFIED:20240722T175457Z
UID:4151-1722103200-1722123000@www.gross-radden.de
SUMMARY:Tanz und Musik beim "Tante Grete - Kunst- und Baukultur e. V."
DESCRIPTION:Liebe Groß Raddener\, ihr seid alle herzlich eingeladen zu Gretes Sommerfest im Tanzsaal der alten Gaststätte. Für alle\, die sich für unsere Pläne und den Zustand des Gebäudes interessieren\, starten wir mit einer Tour durchs Gebäude. Wir freuen uns natürlich weiterhin\, über alte Fotos und geteilte Erinnerungen mehr über Tante Grete\, die Gaststätte und die vielen Feiern\, die dort stattgefunden haben\, zu erfahren. Es wird Getränke und Eintopf geben. Wer mag\, kann gerne einen Salat oder Kuchen mitbringen. Ansonsten hoffen wir auf viele Mittanzende und begeisterte Tischtennisspielerinnen und -spieler. \nSommerliche Grüße \nSheena\, Nina\, Anke\, Stefan\, Jana\, Amir\, Hannes\, Undine\, Elke\, Bo\, Ada\, Enda und Avi
URL:https://www.gross-radden.de/event/tanz-und-musik-beim-tante-grete-e-v-bau-und-stilkultur/
ATTACH;FMTTYPE=image/png:https://www.gross-radden.de/wp-content/uploads/2024/04/Screenshot-2024-07-22-at-15.36.10.png
END:VEVENT
END:VCALENDAR