BEGIN:VCALENDAR
VERSION:2.0
PRODID:-//Groß Radden e.V. - ECPv6.8.3//NONSGML v1.0//EN
CALSCALE:GREGORIAN
METHOD:PUBLISH
X-WR-CALNAME:Groß Radden e.V.
X-ORIGINAL-URL:https://www.gross-radden.de
X-WR-CALDESC:Veranstaltungen für Groß Radden e.V.
REFRESH-INTERVAL;VALUE=DURATION:PT1H
X-Robots-Tag:noindex
X-PUBLISHED-TTL:PT1H
BEGIN:VTIMEZONE
TZID:Europe/Berlin
BEGIN:DAYLIGHT
TZOFFSETFROM:+0100
TZOFFSETTO:+0200
TZNAME:CEST
DTSTART:20240331T010000
END:DAYLIGHT
BEGIN:STANDARD
TZOFFSETFROM:+0200
TZOFFSETTO:+0100
TZNAME:CET
DTSTART:20241027T010000
END:STANDARD
END:VTIMEZONE
BEGIN:VEVENT
DTSTART;TZID=Europe/Berlin:20240107T100000
DTEND;TZID=Europe/Berlin:20240107T120000
DTSTAMP:20260422T134013
CREATED:20240123T225023Z
LAST-MODIFIED:20240126T192409Z
UID:2447-1704621600-1704628800@www.gross-radden.de
SUMMARY:Weihnachtsbaum abschmücken
DESCRIPTION:
URL:https://www.gross-radden.de/event/weihnachtsbaum-abschmuecken/
LOCATION:Am Dreieck\, Groß Raddener Hauptstraße\, Ecke Altenoer Weg
END:VEVENT
BEGIN:VEVENT
DTSTART;TZID=Europe/Berlin:20240112T190000
DTEND;TZID=Europe/Berlin:20240112T220000
DTSTAMP:20260422T134013
CREATED:20240123T225048Z
LAST-MODIFIED:20240216T143144Z
UID:2452-1705086000-1705096800@www.gross-radden.de
SUMMARY:Stammtisch​
DESCRIPTION:Der Stammtisch findet immer am zweiten Freitag im Monat im Gemeindehaus statt.
URL:https://www.gross-radden.de/event/stammtisch/
LOCATION:Vereinshaus\, Altenoer Weg 3\, Lübbenau\, 03222
END:VEVENT
BEGIN:VEVENT
DTSTART;TZID=Europe/Berlin:20240120T100000
DTEND;TZID=Europe/Berlin:20240120T190000
DTSTAMP:20260422T134013
CREATED:20240123T225105Z
LAST-MODIFIED:20240129T134739Z
UID:2450-1705744800-1705777200@www.gross-radden.de
SUMMARY:Zampern​
DESCRIPTION:
URL:https://www.gross-radden.de/event/zampern/
LOCATION:Gemeindeort\, alle Straßen und Wege im Ort
END:VEVENT
BEGIN:VEVENT
DTSTART;TZID=Europe/Berlin:20240127T170000
DTEND;TZID=Europe/Berlin:20240127T180000
DTSTAMP:20260422T134013
CREATED:20240124T091601Z
LAST-MODIFIED:20240124T092517Z
UID:2482-1706374800-1706378400@www.gross-radden.de
SUMMARY:Mitgliederversammlung
DESCRIPTION:Themen: \n1. Begrüßung \n2. Feststellung der Beschlussfähigkeit Informationen zum Verein \n3. Informationen zum Verein \n4. Beschlussfassung zur Satzungsänderung §§ 1.1 und 2.1 vom 08.05.2023
URL:https://www.gross-radden.de/event/mitgliederversammlung/
LOCATION:Vereinshaus\, Altenoer Weg 3\, Lübbenau\, 03222
END:VEVENT
END:VCALENDAR