BEGIN:VCALENDAR
VERSION:2.0
PRODID:-//Groß Radden e.V. - ECPv6.8.3//NONSGML v1.0//EN
CALSCALE:GREGORIAN
METHOD:PUBLISH
X-ORIGINAL-URL:https://www.gross-radden.de
X-WR-CALDESC:Veranstaltungen für Groß Radden e.V.
REFRESH-INTERVAL;VALUE=DURATION:PT1H
X-Robots-Tag:noindex
X-PUBLISHED-TTL:PT1H
BEGIN:VTIMEZONE
TZID:Europe/Berlin
BEGIN:DAYLIGHT
TZOFFSETFROM:+0100
TZOFFSETTO:+0200
TZNAME:CEST
DTSTART:20240331T010000
END:DAYLIGHT
BEGIN:STANDARD
TZOFFSETFROM:+0200
TZOFFSETTO:+0100
TZNAME:CET
DTSTART:20241027T010000
END:STANDARD
END:VTIMEZONE
BEGIN:VEVENT
DTSTART;TZID=Europe/Berlin:20240626T173000
DTEND;TZID=Europe/Berlin:20240626T183000
DTSTAMP:20260420T082916
CREATED:20240614T130719Z
LAST-MODIFIED:20240614T130719Z
UID:4249-1719423000-1719426600@www.gross-radden.de
SUMMARY:Sportgruppe "Rückentraining"
DESCRIPTION:
URL:https://www.gross-radden.de/event/sportgruppe-rueckentraining-4/
LOCATION:Vereinshaus\, Altenoer Weg 3\, Lübbenau\, 03222
END:VEVENT
END:VCALENDAR