BEGIN:VCALENDAR
VERSION:2.0
PRODID:-//Groß Radden e.V. - ECPv6.8.3//NONSGML v1.0//EN
CALSCALE:GREGORIAN
METHOD:PUBLISH
X-WR-CALNAME:Groß Radden e.V.
X-ORIGINAL-URL:https://www.gross-radden.de
X-WR-CALDESC:Veranstaltungen für Groß Radden e.V.
REFRESH-INTERVAL;VALUE=DURATION:PT1H
X-Robots-Tag:noindex
X-PUBLISHED-TTL:PT1H
BEGIN:VTIMEZONE
TZID:Europe/Berlin
BEGIN:DAYLIGHT
TZOFFSETFROM:+0100
TZOFFSETTO:+0200
TZNAME:CEST
DTSTART:20240331T010000
END:DAYLIGHT
BEGIN:STANDARD
TZOFFSETFROM:+0200
TZOFFSETTO:+0100
TZNAME:CET
DTSTART:20241027T010000
END:STANDARD
END:VTIMEZONE
BEGIN:VEVENT
DTSTART;TZID=Europe/Berlin:20240614T150000
DTEND;TZID=Europe/Berlin:20240614T173000
DTSTAMP:20260420T082614
CREATED:20240614T131006Z
LAST-MODIFIED:20240614T131006Z
UID:4255-1718377200-1718386200@www.gross-radden.de
SUMMARY:Seniorenkaffee
DESCRIPTION:
URL:https://www.gross-radden.de/event/seniorenkaffee/
LOCATION:Vereinshaus\, Altenoer Weg 3\, Lübbenau\, 03222
END:VEVENT
BEGIN:VEVENT
DTSTART;TZID=Europe/Berlin:20240614T173000
DTEND;TZID=Europe/Berlin:20240614T233000
DTSTAMP:20260420T082614
CREATED:20240610T180252Z
LAST-MODIFIED:20240610T180252Z
UID:4213-1718386200-1718407800@www.gross-radden.de
SUMMARY:Einweihungsfeier des Gemeindehauses
DESCRIPTION:Nach mehreren Arbeitseinsätzen mit vielen fleißigen Helfern haben wir den Großteil der Renovierung unseres Vereinshauses abgeschlossen. Dafür möchten wir uns bei euch mit einem kleinen Grillabend für euer großartiges Engagement bedanken. Wir freuen uns auf einen schönen Abend mit Feuerschale\, bei leckeren Essen und Trinken und mit interessanten Gesprächen.
URL:https://www.gross-radden.de/event/einweihungsfeier-des-gemeindehauses/
LOCATION:Vereinshaus\, Altenoer Weg 3\, Lübbenau\, 03222
END:VEVENT
END:VCALENDAR