BEGIN:VCALENDAR
VERSION:2.0
PRODID:-//Groß Radden e.V. - ECPv6.8.3//NONSGML v1.0//EN
CALSCALE:GREGORIAN
METHOD:PUBLISH
X-ORIGINAL-URL:https://www.gross-radden.de
X-WR-CALDESC:Veranstaltungen für Groß Radden e.V.
REFRESH-INTERVAL;VALUE=DURATION:PT1H
X-Robots-Tag:noindex
X-PUBLISHED-TTL:PT1H
BEGIN:VTIMEZONE
TZID:Europe/Berlin
BEGIN:DAYLIGHT
TZOFFSETFROM:+0100
TZOFFSETTO:+0200
TZNAME:CEST
DTSTART:20240331T010000
END:DAYLIGHT
BEGIN:STANDARD
TZOFFSETFROM:+0200
TZOFFSETTO:+0100
TZNAME:CET
DTSTART:20241027T010000
END:STANDARD
END:VTIMEZONE
BEGIN:VEVENT
DTSTART;TZID=Europe/Berlin:20240127T170000
DTEND;TZID=Europe/Berlin:20240127T180000
DTSTAMP:20260422T150641
CREATED:20240124T091601Z
LAST-MODIFIED:20240124T092517Z
UID:2482-1706374800-1706378400@www.gross-radden.de
SUMMARY:Mitgliederversammlung
DESCRIPTION:Themen: \n1. Begrüßung \n2. Feststellung der Beschlussfähigkeit Informationen zum Verein \n3. Informationen zum Verein \n4. Beschlussfassung zur Satzungsänderung §§ 1.1 und 2.1 vom 08.05.2023
URL:https://www.gross-radden.de/event/mitgliederversammlung/
LOCATION:Vereinshaus\, Altenoer Weg 3\, Lübbenau\, 03222
END:VEVENT
END:VCALENDAR